BEGIN:VCALENDAR
VERSION:2.0
PRODID:-//Multiple Sclerosis &amp; Parkinson&#039;s Society of Canterbury - ECPv5.3.1.1//NONSGML v1.0//EN
CALSCALE:GREGORIAN
METHOD:PUBLISH
X-WR-CALNAME:Multiple Sclerosis &amp; Parkinson&#039;s Society of Canterbury
X-ORIGINAL-URL:https://ms-pd.org.nz
X-WR-CALDESC:Events for Multiple Sclerosis &amp; Parkinson&#039;s Society of Canterbury
BEGIN:VTIMEZONE
TZID:Pacific/Auckland
BEGIN:STANDARD
TZOFFSETFROM:+1300
TZOFFSETTO:+1200
TZNAME:NZST
DTSTART:20210403T140000
END:STANDARD
BEGIN:DAYLIGHT
TZOFFSETFROM:+1200
TZOFFSETTO:+1300
TZNAME:NZDT
DTSTART:20210925T140000
END:DAYLIGHT
END:VTIMEZONE
BEGIN:VEVENT
DTSTART;TZID=Pacific/Auckland:20210125T100000
DTEND;TZID=Pacific/Auckland:20210125T110000
DTSTAMP:20210122T190431
CREATED:20210122T023541Z
LAST-MODIFIED:20210122T051532Z
UID:2563-1611568800-1611572400@ms-pd.org.nz
SUMMARY:Shake Rattle and Roll
DESCRIPTION:Innovative\, fun and safe exercise for people with Parkinson’s.  Yo9u need to be able to get on/off floor independently and follow instructions.
URL:https://ms-pd.org.nz/event/shake-rattle-and-roll/
LOCATION:MS and Parkinson’s Society Gym\, 49 Sir William Pickering Drive\, Burnside\, Christchurch\, New Zealand
END:VEVENT
BEGIN:VEVENT
DTSTART;TZID=Pacific/Auckland:20210125T110000
DTEND;TZID=Pacific/Auckland:20210125T120000
DTSTAMP:20210122T190431
CREATED:20210122T051258Z
LAST-MODIFIED:20210122T051258Z
UID:2592-1611572400-1611576000@ms-pd.org.nz
SUMMARY:Top to Toe
DESCRIPTION:Mostly chair based exercises with opportunity to also use some gym equipment with assistance.  You need to be able to get into/out of a chair with little or no help or use your own wheelchair.  A cheerful and fun group suitable for people with Parkinson’s or MS.
URL:https://ms-pd.org.nz/event/top-to-toe/
LOCATION:MS and Parkinson’s Society Gym\, 49 Sir William Pickering Drive\, Burnside\, Christchurch\, New Zealand
END:VEVENT
BEGIN:VEVENT
DTSTART;TZID=Pacific/Auckland:20210125T130000
DTEND;TZID=Pacific/Auckland:20210125T150000
DTSTAMP:20210122T190431
CREATED:20210122T051423Z
LAST-MODIFIED:20210122T051423Z
UID:2594-1611579600-1611586800@ms-pd.org.nz
SUMMARY:Open Gym
DESCRIPTION:The gym is open to complete your own physio prescribed exercise programmes under supervision.
URL:https://ms-pd.org.nz/event/open-gym/
LOCATION:MS and Parkinson’s Society Gym\, 49 Sir William Pickering Drive\, Burnside\, Christchurch\, New Zealand
END:VEVENT
BEGIN:VEVENT
DTSTART;TZID=Pacific/Auckland:20210127T100000
DTEND;TZID=Pacific/Auckland:20210127T110000
DTSTAMP:20210122T190431
CREATED:20210122T050917Z
LAST-MODIFIED:20210122T050917Z
UID:2589-1611741600-1611745200@ms-pd.org.nz
SUMMARY:Parkinson's Power
DESCRIPTION:Parkinson’s Power is a high energy class for those who are in the early stages of their Parkinson’s and looking for a BIG challenge! We focus on exercises that make you work hard and challenge your balance and coordination. You must be in good general health to join this class. This class is not suitable for people who have had previous falls or experience freezing
URL:https://ms-pd.org.nz/event/parkinsons-power/
LOCATION:MS and Parkinson’s Society Gym\, 49 Sir William Pickering Drive\, Burnside\, Christchurch\, New Zealand
END:VEVENT
END:VCALENDAR